BEGIN:VCALENDAR
VERSION:2.0
PRODID:-//Library Market//iCal Export//EN
BEGIN:VEVENT
SUMMARY:Comic Book Giveaway
UID:6380
DTSTAMP:20260421T132600Z
DTSTART:20260523T150000Z
DTEND:20260523T210000Z
LOCATION:1101 6th Avenue, Marion, IA 52302, United States
ROOM: Community Room A
DESCRIPTION:Join the library for a free comic book celebration that is wel
 come to people of all ages. Families, teens, and adults can gather at the 
 library to pick out free comic books, explore a variety of titles, and dis
 cover new characters and stories. This event aims to encourage reading an
 d creativity while giving attendees the opportunity to connect with others
  who share an interest in comics and graphic novels. With a friendly atmos
 phere and content for all age groups, the day will provide an engaging way
  for community members to enjoy sequential art together.
URL:https://marionpl.librarycalendar.com/event/comic-book-giveaway-6380
END:VEVENT
END:VCALENDAR
