BEGIN:VCALENDAR
VERSION:2.0
PRODID:-//Library Market//iCal Export//EN
BEGIN:VEVENT
SUMMARY:MakerSpace Open Hours
UID:6587
DTSTAMP:20260421T052900Z
DTSTART:20260430T200000Z
DTEND:20260430T230000Z
LOCATION:1101 6th Avenue, Marion, IA 52302, United States
ROOM: MakerSpace
DESCRIPTION:
URL:https://marionpl.librarycalendar.com/event/makerspace-open-hours-6587
END:VEVENT
END:VCALENDAR
