BEGIN:VCALENDAR
VERSION:2.0
PRODID:-//Library Market//iCal Export//EN
BEGIN:VEVENT
SUMMARY:MakerSpace Open Hours
UID:6589
DTSTAMP:20260420T114800Z
DTSTART:20260410T180000Z
DTEND:20260410T210000Z
LOCATION:1101 6th Avenue, Marion, IA 52302, United States
ROOM: MakerSpace
DESCRIPTION:
URL:https://marionpl.librarycalendar.com/event/makerspace-open-hours-6589
END:VEVENT
END:VCALENDAR
