BEGIN:VCALENDAR
VERSION:2.0
PRODID:-//Library Market//iCal Export//EN
BEGIN:VEVENT
SUMMARY:MakerSpace Open Hours
UID:6593
DTSTAMP:20260421T081100Z
DTSTART:20260408T160000Z
DTEND:20260408T170000Z
LOCATION:1101 6th Avenue, Marion, IA 52302, United States
ROOM: MakerSpace
DESCRIPTION:
URL:https://marionpl.librarycalendar.com/event/makerspace-open-hour-6593
END:VEVENT
END:VCALENDAR
