BEGIN:VCALENDAR
VERSION:2.0
PRODID:-//Library Market//iCal Export//EN
BEGIN:VEVENT
SUMMARY:MakerSpace Open Hours
UID:6596
DTSTAMP:20260421T095900Z
DTSTART:20260422T220000Z
DTEND:20260422T230000Z
LOCATION:1101 6th Avenue, Marion, IA 52302, United States
ROOM: MakerSpace
DESCRIPTION:
URL:https://marionpl.librarycalendar.com/event/makerspace-open-hour-6596
END:VEVENT
END:VCALENDAR
