BEGIN:VCALENDAR
VERSION:2.0
PRODID:-//Library Market//iCal Export//EN
BEGIN:VEVENT
SUMMARY:MakerSpace Open Hours
UID:6606
DTSTAMP:20260419T220500Z
DTSTART:20260414T190000Z
DTEND:20260414T220000Z
LOCATION:1101 6th Avenue, Marion, IA 52302, United States
ROOM: MakerSpace
DESCRIPTION:
URL:https://marionpl.librarycalendar.com/event/makerspace-open-hours-6606
END:VEVENT
END:VCALENDAR
