BEGIN:VCALENDAR
VERSION:2.0
PRODID:-//Library Market//iCal Export//EN
BEGIN:VEVENT
SUMMARY:Virtual Author Talk: Nir Eyal
UID:6732
DTSTAMP:20260421T052900Z
DTSTART:20260519T180000Z
DTEND:20260519T190000Z
LOCATION:
DESCRIPTION:Reshape Your Beliefs and Unlock Your True Potential with Nir E
 yalInternationally Bestselling Author of Hooked and IndistractibleWhat if 
 the only thing standing between you and the seemingly impossible…was bel
 ief? This is the question posed by bestselling author Nir Eyal in his new 
 work, Beyond Belief. Most of your limits aren’t physical. They’re psy
 chological. In Beyond Belief, Nir Eyal reveals how the hidden assumptions 
 you carry shape what you see, how you feel, and what you do—and how to r
 eplace them with beliefs that unlock your true potential.Grounded in neuro
 science, psychology, and unforgettable case studies, Eyal introduces the T
 hree Powers of Belief: Attention, Anticipation, and Agency. Mastering thes
 e powers transforms how you see challenges, feel about the future, and act
  when it matters most.You’ll learn how to:Spot hidden opportunities and 
 solutions others overlook.Reclaim your mood, energy, and confidence by res
 haping your beliefs.Stay calm, decisive, and in control when life feels un
 certain.Break free from beliefs that sabotage your health, relationships, 
 and career.Push further, last longer, and achieve beyond your limits.If yo
 u’ve ever quit too soon, stalled in your career, or sabotaged your own g
 oals, this book gives you the science and the system to go further than yo
 u thought possible.Surgeries without anesthesia. Placebos that heal. Resil
 ience multiplied 240 times longer. Beyond Belief reveals the science behin
 d these breakthroughs and shows why your limits aren’t fixed—they’re
  learned. And with the right beliefs, you can achieve breakthrough results
 .About the Author:Nir Eyal writes, consults, and teaches about the interse
 ction of psychology, technology, and human potential. He previously taught
  at the Stanford Graduate School of Business and the Hasso Plattner Instit
 ute of Design at Stanford. He is the author of the international bestselle
 rs Hooked: How to Build Habit-Forming Products and Indistractable: How to 
 Control Your Attention and Choose Your Life, which have sold over 1 millio
 n copies in more than 30 languages. As an active angel investor, Nir has b
 acked multi-billion-dollar companies that implement his methodologies, inc
 luding Canva, Kahoot!, and others. In addition to blogging at NirAndFar.co
 m, his writing has been featured in The New York Times and Harvard Busines
 s Review, and he is a regular contributor to Psychology Today.
URL:https://marionpl.librarycalendar.com/event/virtual-author-talk-nir-eya
 l-6732
END:VEVENT
END:VCALENDAR
