BEGIN:VCALENDAR
VERSION:2.0
PRODID:-//Library Market//iCal Export//EN
BEGIN:VEVENT
SUMMARY:Senior Social Hour
UID:6743
DTSTAMP:20260420T144600Z
DTSTART:20260526T150000Z
DTEND:20260526T160000Z
LOCATION:1101 6th Avenue, Marion, IA 52302, United States
ROOM: Boardroom
DESCRIPTION:
URL:https://marionpl.librarycalendar.com/event/senior-social-hour-6743
END:VEVENT
END:VCALENDAR
