BEGIN:VCALENDAR
VERSION:2.0
PRODID:-//Library Market//iCal Export//EN
BEGIN:VEVENT
SUMMARY:Tai Chi for Beginners
UID:6752
DTSTAMP:20260420T015700Z
DTSTART:20260505T150000Z
DTEND:20260505T160000Z
LOCATION:1101 6th Avenue, Marion, IA 52302, United States
ROOM: Community Room
DESCRIPTION:This Tai Chi program is geared towards beginners who aren&#039
 ;t sure where to start or are afraid of joining an advanced class.
URL:https://marionpl.librarycalendar.com/event/copy-tai-chi-beginners-6752
END:VEVENT
END:VCALENDAR
