BEGIN:VCALENDAR
VERSION:2.0
PRODID:-//Library Market//iCal Export//EN
BEGIN:VEVENT
SUMMARY:Culinary Class: Cooking Easy Meals
UID:7220
DTSTAMP:20260422T050100Z
DTSTART:20261119T170000Z
DTEND:20261119T193000Z
LOCATION:1101 6th Avenue, Marion, IA 52302, United States
ROOM: Community Room B
DESCRIPTION:Join the library and Horizons, A Family Service Alliance to le
 arn how to make easy, affordable meals with low-cost ingredients. Attendee
 s will learn how to make various dishes, sample the results, and take home
  a meal kit with all necessary ingredients to make the meal. Meal kits ser
 ve 4 - 5 individuals and will also be available for pickup after class; pl
 ease visit with staff for details.This class and meal kits are made possib
 le through a grant from the Aegon Transamerica Foundation along with Horiz
 ons, A Family Service Alliance.
URL:https://marionpl.librarycalendar.com/event/hold-cooking-programmeal-ki
 ts-7220
END:VEVENT
END:VCALENDAR
