BEGIN:VCALENDAR
VERSION:2.0
PRODID:-//Library Market//iCal Export//EN
BEGIN:VEVENT
SUMMARY:Beginning Crochet Classes
UID:8131
DTSTAMP:20260422T050100Z
DTSTART:20260617T230000Z
DTEND:20260618T003000Z
LOCATION:1101 6th Avenue, Marion, IA 52302, United States
ROOM: MakerSpace
DESCRIPTION:Crazy Yarn Club is a 6-week, beginner-friendly crochet series 
 designed to bring creativity, connection, and confidence to the community.
  During these six weeks, participants will learn foundational crochet skil
 ls in a relaxed, supportive environment where everyone is welcome to learn
  at their own pace.What Youâ€™ll Learnâ€¢ How to hold a hook and yarn comf
 ortablyâ€¢ Slip knot and chain stitchâ€¢ Single crochet and building rowsâ
 €¢ Turning work and maintaining stitch countâ€¢ Beginning and finishing a 
 simple projectWeekly ScheduleWeek 1 - May 20: FoundationsSlip knot, chain 
 stitch, how to hold hook and yarn, building comfort and confidence.Â Week 
 2 - May 27: Single CrochetIntroduction to single crochet, working into cha
 in, understanding stitch structure.Â Week 3 - June 3: Building RowsContinu
 ing rows, turning work, maintaining stitch count, improving consistency.Â 
 Week 4 - June 10: Confidence &amp; ConsistencyRefining technique, even ten
 sion, recognizing stitches, independent practice.Â Week 5 - June 17: Simpl
 e ProjectBeginning a small project such as a dishcloth or square, followin
 g a simple pattern.Â Week 6 - June 24: Finish &amp; Next StepsFinishing pr
 oject, tying off, weaving in ends, guidance for continued learning.Starter
  kits, including yarn and basic tools, will be provided at no charge for a
 ll participants.
URL:https://marionpl.librarycalendar.com/event/beginning-crochet-classes-8
 131
END:VEVENT
END:VCALENDAR
