BEGIN:VCALENDAR
VERSION:2.0
PRODID:-//Library Market//iCal Export//EN
BEGIN:VEVENT
SUMMARY:Doodlebugs Art Program
UID:8347
DTSTAMP:20260420T071500Z
DTSTART:20261027T153000Z
DTEND:20261027T160000Z
LOCATION:1101 6th Avenue, Marion, IA 52302, United States
ROOM: Youth Programming Room
DESCRIPTION:
URL:https://marionpl.librarycalendar.com/event/doodlebugs-art-program-8347
END:VEVENT
END:VCALENDAR
