BEGIN:VCALENDAR
VERSION:2.0
PRODID:-//Library Market//iCal Export//EN
BEGIN:VEVENT
SUMMARY:Doodlebugs Art Program
UID:8349
DTSTAMP:20260421T052900Z
DTSTART:20261222T163000Z
DTEND:20261222T170000Z
LOCATION:1101 6th Avenue, Marion, IA 52302, United States
ROOM: Youth Programming Room
DESCRIPTION:
URL:https://marionpl.librarycalendar.com/event/doodlebugs-art-program-8349
END:VEVENT
END:VCALENDAR
