BEGIN:VCALENDAR
VERSION:2.0
PRODID:-//Library Market//iCal Export//EN
BEGIN:VEVENT
SUMMARY:Caregiver Support Group
UID:8554
DTSTAMP:20260422T024200Z
DTSTART:20261015T230000Z
DTEND:20261016T003000Z
LOCATION:1101 6th Avenue, Marion, IA 52302, United States
ROOM: Boardroom
DESCRIPTION:Geared towards caregivers of those with memory loss, Caregiver
  Support Group meets from February - November. Each month, attendees will 
 discuss a designate topic and/or guest speaker that provides information a
 nd support for caregivers, family, and friends, of those living with memor
 y loss. This program is meant to be a safe space to share stories, ask que
 stions, and be surrounded by others.This program is hosted in partnership 
 with Bickford Senior Living, Bickford Home Care, and Gentiva Hospice.Febru
 ary - Planning Ahead/Recognizing ChangesMarch - Choosing Your BattlesApril
  - Caregiver Burnout &amp; Self CareMay - Relationship Changes/Family Dyna
 micsJune - Managing Guilt and GriefJuly - Purposeful Activity/Routine Buil
 dingAugust - Starting Each Day Fresh/PatienceSeptember - Asking For and Ac
 cepting HelpOctober - Loving Throughout Our Loved One&#039;s JourneyNovemb
 er - Adjusting Expectations
URL:https://marionpl.librarycalendar.com/event/copy-caregiver-support-grou
 p-8554
END:VEVENT
END:VCALENDAR
